BEGIN:VCALENDAR
VERSION:2.0
PRODID:-//Brady&#039;s K9 Fund - ECPv6.15.18//NONSGML v1.0//EN
CALSCALE:GREGORIAN
METHOD:PUBLISH
X-ORIGINAL-URL:https://bradysk9fund.com
X-WR-CALDESC:Events for Brady&#039;s K9 Fund
REFRESH-INTERVAL;VALUE=DURATION:PT1H
X-Robots-Tag:noindex
X-PUBLISHED-TTL:PT1H
BEGIN:VTIMEZONE
TZID:America/New_York
BEGIN:DAYLIGHT
TZOFFSETFROM:-0500
TZOFFSETTO:-0400
TZNAME:EDT
DTSTART:20230312T070000
END:DAYLIGHT
BEGIN:STANDARD
TZOFFSETFROM:-0400
TZOFFSETTO:-0500
TZNAME:EST
DTSTART:20231105T060000
END:STANDARD
BEGIN:DAYLIGHT
TZOFFSETFROM:-0500
TZOFFSETTO:-0400
TZNAME:EDT
DTSTART:20240310T070000
END:DAYLIGHT
BEGIN:STANDARD
TZOFFSETFROM:-0400
TZOFFSETTO:-0500
TZNAME:EST
DTSTART:20241103T060000
END:STANDARD
BEGIN:DAYLIGHT
TZOFFSETFROM:-0500
TZOFFSETTO:-0400
TZNAME:EDT
DTSTART:20250309T070000
END:DAYLIGHT
BEGIN:STANDARD
TZOFFSETFROM:-0400
TZOFFSETTO:-0500
TZNAME:EST
DTSTART:20251102T060000
END:STANDARD
END:VTIMEZONE
BEGIN:VEVENT
DTSTART;TZID=America/New_York:20240602T100000
DTEND;TZID=America/New_York:20240602T160000
DTSTAMP:20260422T114504
CREATED:20240318T142353Z
LAST-MODIFIED:20240318T142819Z
UID:2320-1717322400-1717344000@bradysk9fund.com
SUMMARY:Pitmasters and Blasters BBQ
DESCRIPTION:The New England area is putting on a fun event hosted by the Pitmasters and Blasters with a BBQ event that is forged from a shared love for firearms and BBQ lovers. This event will be supporting Brady's K9 Fund by a donation from those enthusiasts. Enjoy meeting those who share a love for firearms as well as those who the culinary mastery of pit cooking.
URL:https://bradysk9fund.com/event/pitmasters-and-blasters-bbq/
LOCATION:S glastonbury\, CT\, S. Glastonbury\, Connecticut\, United States
END:VEVENT
BEGIN:VEVENT
DTSTART;TZID=America/New_York:20240608T130000
DTEND;TZID=America/New_York:20240608T170000
DTSTAMP:20260422T114504
CREATED:20240504T015716Z
LAST-MODIFIED:20240603T002416Z
UID:2714-1717851600-1717866000@bradysk9fund.com
SUMMARY:Barks & Brews
DESCRIPTION:Brady's K9 Fund invites you to come out to the Thirsty Dog TapHouse in Akron\, Ohio for some fun all to benefit Police K9s! Brady's K9 Fund donates K9 ballistic vests to keep our four legged officers who protect our streets safe. These beautiful dogs do not automatically get issued body armor so thats where we step in and provide them with top notch ballistic vests. \nFor this event\, entry fee come with a custom pint glass and a ticket for your first beer or drink. We will be having raffles\, a merch table\, and meet & greets from local K9s for your enjoyment. Food is available to order off the menu if you choose. They have a very nice outdoor patio to enjoy the beautiful June weather as well. Must be 21 or older for consumption of alcohol. Tickets will be held at the door for you. \nKid founded in 2018\, Brady's K9 Fund has donated over 1\,080 vests across all 50 state and other countries as well. Over $1.3 million dollars have been raised. \nWe hope to see you there! \nQuestions? Info@Bradysk9fund.com
URL:https://bradysk9fund.com/event/barks-brews/
LOCATION:Thirsty Dog Brewery Tap House\, 587 Grant Street\, Akron\, OH\, 44311\, United States
ORGANIZER;CN="Brady's K9 Fund":MAILTO:bradysk9fund@gmail.com
END:VEVENT
END:VCALENDAR